Workbook

Sheet Start
A11: Wybór wydziału
A12: WYDZIAŁ BIOLOGII I BIOTECHNOLOGII
A16: Raport z zapewnienia i doskonalenia jakości kształcenia w r. ak. 2024/2025
A20: Raport przygotowywany jest w ramach corocznej oceny stopnia realizacji polityki jakości oraz celów jakości kształcenia w odniesieniu do prowadzonych kierunków studiów. Raport należy przygotować najpóźniej do końca roku kalendarzowego.
A23: Opracował: | D23: Zweryfikował: | G23: Zatwierdził:
G24: Dziekan Wydziału
A25: dr hab. Mateusz Wierzbicki, prof. SGGW | D25: dr Magdalena Mychorowska; dr Magdalena Święcicka | G25: dr hab. Magdalena Pawełkowicz, prof.. SGGW
A28: Data, Podpis | D28: Data, Podpis | G28: Data, Podpis
A31: W pliku znajdują się następujące arkusze
A33: Instrukcja przeprowadzenia oceny
A35: Katalog Narzędzi Systemu Monitorowania i Doskonalenia Jakości Kształcenia w SGGW
A37: Skuteczność
A39: Ocena sktueczności działania w obszarze poszczególnych kryteriów jakości kształcenia w odniesieniu do prowadzonych kierunków studiów
A41: Dobre praktyki
A43: Wyszczególnione dobre praktyki w ramach prowadzonych kierunków studiów
A45: Raporty dla poszczególnych kierunków studiów

Sheet Instrukcja
B2: Lp. | C2: Wyszczególnienie
B3: 1 | C3: Ocena dokonywana jest co najmniej raz w roku akademickim. W razie potrzeby można ją przeprowadzać częściej, np. raz na semestr.
B4: 2 | C4: Ocena dokonywana jest na postawie kryteriów określonych w dokumencie „Wskaźniki spełnienia standardów jakości kształcenia” opracowanym przez Polską Komisję Akredytacyjną.
B5: 3 | C5: Ocena dokonywana jest osobno dla każdego kierunku studiów, jednak łącznie dla wszystkich prowadzonych poziomów i trybów.
B6: 4 | C6: Ocenę przeprowadza osoba odpowiedzialna za koordynację prac związanych z zapewnieniem i doskonaleniem jakości kształcenia na Wydziale, weryfikuje Rada Programowa powołana dla ocenianego kierunku, zatwierdza Dziekan Wydziału na którym realizowany jest kierunek.
B7: 5 | C7: Po zatwierdzeniu ocena przekazywana jest do Pełnomocnika Rektora ds. Jakości Kształcenia.
B8: 6 | C8: Definicje:
B9: 6a | D9: Dobra praktyka - rozwiązanie, które jest skuteczne (pozwala na osiąganie celów w sferze doskonalenia jakości kształcenia), uniwersalne (pozwala na przenoszenie rozwiązań na inne jednostki szkolnictwa wyższego), etyczne (etyczne oraz odpowiedzialne społecznie) oraz trwałe (powtarzalne, trwale wpływające na uczelnianą rzeczywistość).
E10: Przykład: Studenci są powszechnie angażowani do udziału w działalności naukowej w dyscyplinie, do której przyporządkowany jest kierunek studiów. Uczestniczą oni w projektach naukowych finansowanych ze źródeł zewnętrznych oraz publikacjach wyników badań. Potwierdzeniem aktywności naukowej studentów jest wysoka liczba projektów/grantów i publikacji realizowanych z ich udziałem. Dołączanie studentów do zespołów projektowych ma charakter systemowy i odbywa się na stosunkowo wczesnym etapie studiów (opis procesu na wydziale);
B11: 6b | D11: Działanie – ogół czynności i decyzji podjętych w celu zapewniania i doskonalenia jakości kształcenia. Wyróżniono:
E12: Działania systemowe – realizowane zgodnie z przyjętym planem.
E13: Działania ad hoc - nieprzewidziane planem, podejmowane w związku z zaistniałym zdarzeniem.
E14: Działania korekcyjne – podejmowane w celu wyeliminowania powstałego problemu.
E15: Działania korygujące – podejmowane w celu wyeliminowania przyczyny powstałego problemu.
E16: Działania zapobiegawcze – podejmowane wyeliminowania przyczyn potencjalnego problemu.
E17: Działania doskonalące – podejmowane w celu podniesienia skuteczności przyjętych rozwiązań w ramach systemy jakości kształcenia.
B18: 6c | D18: Skuteczność – stopień realizacji założonych celów. Przyjęto trójstopniową ocenę skuteczności:
E19: Wysoka – założone cele zostały zrealizowane w całości,
E20: Średnia – założone cele zostały zrealizowane co najmniej w połowie,
E21: Niska – założone cele zostały zrealizowane w stopniu mniejszym niż połowa.
B22: 6d | D22: Standard – kryteria oceny określonego obszaru funkcjonowania systemu zapewniania i doskonalenia jakości kształcenia przyjęte w dokumencie PKA „Wskaźniki spełnienia standardów jakości kształcenia”.
B23: 7 | C23: W przypadku stwierdzenia niskiej skuteczności zapewnienia i doskonalenia jakości kształcenia w danych obszarach należy opisać planowane działania zmierzające do jej poprawy.
B24: 8 | C24: Ocenę należy podsumować wnioskami, które powinny być podane do publicznej wiadomości.

Sheet Narzędzia
A1: Lp. | B1: Monitorowany obszar | C1: Opis narzędzia | D1: Miesiąc
A2: 1 | B2: Polityka i cele jakości kształcenia | C2: Raport corocznej oceny stopnia realizacji polityki jakości oraz celów jakości kształcenia | D2: Grudzień
A3: 2 | B3: Mierniki Strategii | C3: Raport z oceny mierników Strategii SGGW w odniesieniu do celów strategicznych dedykowanych kształceniu | D3: kwiecień
A4: 3 | B4: Programy studiów | C4: Raport z okresowego przeglądu programów studiów w zakresie spójności z wymaganiami przepisów prawa, stanu wiedzy oraz rynku pracy | D4: czerwiec
A5: 4 | B5: Rekrutacja | C5: Raport podsumowujący rekrutację oraz wyniki studentów przyjętych na pierwszy semestr studiów na danym kierunku i poziomie studiów | D5: Październik
A6: 5 | B6: Zasoby wykorzystywane w procesie kształcenia | C6: Raport z przeglądu i oceny dostępności i jakości zasobów materialnych oraz niematerialnych i prawnych wykorzystywanych na potrzeby procesu dydaktycznego | D6: wrzesień
A7: 6 | B7: Spójności kształcenia z działalnością naukową | C7: Raport z oceny spójności kształcenia na danym kierunku z działalnością naukową prowadzoną przez nauczycieli akademickich prowadzących zajęcia dydaktyczne na tym kierunku | D7: wrzesień
A8: 7 | B8: Proces dydaktyczny | C8: Raport z hospitacji zajęć dydaktycznych w celu oceny jakości ich prowadzenia, dokonywane przez powołaną do tego celu komisję | D8: Plan hospitacji styczeń, Raport czerwiec
A9: 8 | B9: Studencka i doktorancka ocena jakości prowadzenia zajęć | C9: Raport z dobrowolnej oceny przez studentów i doktorantów jakości zajęć dydaktycznych i osób je prowadzących realizowanej po pierwszym i drugim semestrze danego roku akadmeickiego przy wykorzystaniu kwestionariusza zatwierdzanego przez Rektora | D9: luty
A10: 9 | B10: Opinie studentów i doktorantów na temat prowadzonych zajęć dydaktycznych | C10: Raport z przeglądu komentarzy wystawionych przez studentów i doktorantów w ramach oceny jakości zajęć i prowadzących realizowanej po pierwszym i drugim semestrze danego roku akademickiego przy wykorzystaniu kwestionariusza przez Rektora | D10: luty
A11: 10 | B11: Praktyki i staże studenckie i doktoranckie | C11: Raport z oceny stopnia osiągania założonych efektów uczenia się w ramach praktyk i staży oraz ich organizacji | D11: lipiec
A12: 11 | B12: Osiąganie założonych efektów uczenia się | C12: Raport z weryfikacji stopnia osiągania zakładanych efektów uczenia się oraz weryfikacja form i metod dydaktycznych zapisanych w sylabusie przedmiotu | D12: listopad
A13: 12 | B13: Prace dyplomowe | C13: Raport z oceny jakości prac dyplomowych w zakresie zgodności tematyki z kierunkiem studiów, spełnienia wymagań formalnych, jakości merytorycznej i redakcyjnej | D13: listopad
... A21: 20 | B21: System jakości kształcenia | C21: Raport z oceny skuteczności i efektywności procedur i narzędzi Systemu zapewniania i doskonalenia jakości kształcenia w SGGW | D21: maj

Sheet SKUTECZNOŚĆ
C2: Skuteczność
B4: =Start!A12 -> WYDZIAŁ BIOLOGII I BIOTECHNOLOGII
A7: Lp. | B7: WYDZIAŁ | C7: Skrót | D7: Kierunki studiów | E7: WSKAŹNIK | F7: Kryterium 1. Konstrukcja programu studiów: koncepcja, cele kształcenia i efekty uczenia się | J7: Kryterium 2. Realizacja programu studiów: treści programowe, harmonogram realizacji programu studiów oraz formy i organizacja zajęć, metody kształcenia, praktyki zawodowe, organizacja procesu nauczania i uczenia się | S7: Kryterium 3. Przyjęcie na studia, weryfikacja osiągnięcia przez studentów efektów uczenia się, zaliczanie poszczególnych seme strów i lat oraz dyplomowanie | W7: Kryterium 4. Kompetencje, doświadczenie, kwalifikacje i liczebność kadry prowadzącej kształcenie oraz rozwój i doskonalenie kadry | Z7: Kryterium 5. Infrastruktura i zasoby edukacyjne wykorzystywane w realizacji programu studiów oraz ich doskonalenie | AC7: Kryterium 6. Współpraca z otoczeniem społeczno-gospodarczym w konstruowaniu, realizacji i doskonaleniu programu studiów oraz jej wpływ na rozwój kierunku | AE7: Kryterium 7. Warunki i sposoby podnoszenia stopnia umiędzynarodowienia procesu kształcenia na kierunku | AG7: Kryterium 8. Wsparcie studentów w uczeniu się, rozwoju społecznym, naukowym lub zawodowym i wejściu na rynek pracy oraz rozwó j i doskonalenie form wsparcia | AI7: Kryterium 9. Publiczny dostęp do informacji o programie studiów, warunkach jego realizacji i osiąganych rezultatach | AK7: Kryterium 10. Polityka jakości, projektowanie, zatwierdzanie, monitorowanie, przegląd i doskonalenie programu studiów | AM7: Max | AN7: Suma | AO7: Wskaźnik
F8: 1.1 | G8: 1.2 | H8: 1.2a | I8: 1.2b | J8: 2.1 | K8: 2.1a | L8: 2.2 | M8: 2.2a | N8: 2.3 | O8: 2.4 | P8: 2.4a | Q8: 2.5 | R8: 2.5a | S8: 3.1 | T8: 3.2 | U8: 3.2a | V8: 3.3 | W8: 4.1 | X8: 4.1a | Y8: 4.2 | Z8: 5.1 | AA8: 5.1a | AB8: 5.2 | AC8: 6.1 | AD8: 6.2 | AE8: 7.1 | AF8: 7.2 | AG8: 8.1 | AH8: 8.2 | AI8: 9.1 | AJ8: 9.2 | AK8: 10.1 | AL8: 10.2
A9: 1 | B9: =$B$4 -> WYDZIAŁ BIOLOGII I BIOTECHNOLOGII | C9: =IFERROR(VLOOKUP(B9,WYDZIAŁY!$A$19:$B$32,2,0),"") -> WBiB | D9: ='Kierunek biologia (1)'!D6:H6 -> biologia | E9: =IFERROR(AO9,"") -> 1 | F9: =IF((ISTEXT('Kierunek biologia (1)'!$F$13)),3,IF((ISTEXT('Kierunek biologia (1)'!$G$13)),2,IF(ISTEXT('Kierunek biologia (1)'!$H$13),1,""))) -> 3 | G9: =IF((ISTEXT('Kierunek biologia (1)'!$F$14)),3,IF((ISTEXT('Kierunek biologia (1)'!$G$14)),2,IF(ISTEXT('Kierunek biologia (1)'!$H$14),1,""))) -> 3 | H9: =IF((ISTEXT('Kierunek biologia (1)'!$F$15)),3,IF((ISTEXT('Kierunek biologia (1)'!$G$15)),2,IF(ISTEXT('Kierunek biologia (1)'!$H$15),1,""))) | I9: =IF((ISTEXT('Kierunek biologia (1)'!$F$16)),3,IF((ISTEXT('Kierunek biologia (1)'!$G$16)),2,IF(ISTEXT('Kierunek biologia (1)'!$H$16),1,""))) | J9: =IF((ISTEXT('Kierunek biologia (1)'!$F$20)),3,IF((ISTEXT('Kierunek biologia (1)'!$G$20)),2,IF(ISTEXT('Kierunek biologia (1)'!$H$20),1,""))) -> 3 | K9: =IF((ISTEXT('Kierunek biologia (1)'!$F$21)),3,IF((ISTEXT('Kierunek biologia (1)'!$G$21)),2,IF(ISTEXT('Kierunek biologia (1)'!$H$21),1,""))) | L9: =IF((ISTEXT('Kierunek biologia (1)'!$F$22)),3,IF((ISTEXT('Kierunek biologia (1)'!$G$22)),2,IF(ISTEXT('Kierunek biologia (1)'!$H$22),1,""))) -> 3 | M9: =IF((ISTEXT('Kierunek biologia (1)'!$F$23)),3,IF((ISTEXT('Kierunek biologia (1)'!$G$23)),2,IF(ISTEXT('Kierunek biologia (1)'!$H$23),1,""))) | N9: =IF((ISTEXT('Kierunek biologia (1)'!$F$24)),3,IF((ISTEXT('Kierunek biologia (1)'!$G$24)),2,IF(ISTEXT('Kierunek biologia (1)'!$H$24),1,""))) -> 3 | O9: =IF((ISTEXT('Kierunek biologia (1)'!$F$25)),3,IF((ISTEXT('Kierunek biologia (1)'!$G$25)),2,IF(ISTEXT('Kierunek biologia (1)'!$H$25),1,""))) -> 3 | P9: =IF((ISTEXT('Kierunek biologia (1)'!$F$26)),3,IF((ISTEXT('Kierunek biologia (1)'!$G$26)),2,IF(ISTEXT('Kierunek biologia (1)'!$H$26),1,""))) | Q9: =IF((ISTEXT('Kierunek biologia (1)'!$F$27)),3,IF((ISTEXT('Kierunek biologia (1)'!$G$27)),2,IF(ISTEXT('Kierunek biologia (1)'!$H$27),1,""))) -> 3 | R9: =IF((ISTEXT('Kierunek biologia (1)'!$F$28)),3,IF((ISTEXT('Kierunek biologia (1)'!$G$28)),2,IF(ISTEXT('Kierunek biologia (1)'!$H$28),1,""))) | S9: =IF((ISTEXT('Kierunek biologia (1)'!$F$32)),3,IF((ISTEXT('Kierunek biologia (1)'!$G$32)),2,IF(ISTEXT('Kierunek biologia (1)'!$H$32),1,""))) -> 3 | T9: =IF((ISTEXT('Kierunek biologia (1)'!$F$33)),3,IF((ISTEXT('Kierunek biologia (1)'!$G$33)),2,IF(ISTEXT('Kierunek biologia (1)'!$H$33),1,""))) -> 3 | U9: =IF((ISTEXT('Kierunek biologia (1)'!$F$34)),3,IF((ISTEXT('Kierunek biologia (1)'!$G$34)),2,IF(ISTEXT('Kierunek biologia (1)'!$H$34),1,""))) | V9: =IF((ISTEXT('Kierunek biologia (1)'!$F$35)),3,IF((ISTEXT('Kierunek biologia (1)'!$G$35)),2,IF(ISTEXT('Kierunek biologia (1)'!$H$35),1,""))) -> 3 | W9: =IF((ISTEXT('Kierunek biologia (1)'!$F$39)),3,IF((ISTEXT('Kierunek biologia (1)'!$G$39)),2,IF(ISTEXT('Kierunek biologia (1)'!$H$39),1,""))) -> 3 | X9: =IF((ISTEXT('Kierunek biologia (1)'!$F$40)),3,IF((ISTEXT('Kierunek biologia (1)'!$G$40)),2,IF(ISTEXT('Kierunek biologia (1)'!$H$40),1,""))) | Y9: =IF((ISTEXT('Kierunek biologia (1)'!$F$41)),3,IF((ISTEXT('Kierunek biologia (1)'!$G$41)),2,IF(ISTEXT('Kierunek biologia (1)'!$H$41),1,""))) -> 3 | Z9: =IF((ISTEXT('Kierunek biologia (1)'!$F$45)),3,IF((ISTEXT('Kierunek biologia (1)'!$G$45)),2,IF(ISTEXT('Kierunek biologia (1)'!$H$45),1,""))) -> 3 | AA9: =IF((ISTEXT('Kierunek biologia (1)'!$F$46)),3,IF((ISTEXT('Kierunek biologia (1)'!$G$46)),2,IF(ISTEXT('Kierunek biologia (1)'!$H$46),1,""))) | AB9: =IF((ISTEXT('Kierunek biologia (1)'!$F$47)),3,IF((ISTEXT('Kierunek biologia (1)'!$G$47)),2,IF(ISTEXT('Kierunek biologia (1)'!$H$47),1,""))) -> 3 | AC9: =IF((ISTEXT('Kierunek biologia (1)'!$F$51)),3,IF((ISTEXT('Kierunek biologia (1)'!$G$51)),2,IF(ISTEXT('Kierunek biologia (1)'!$H$51),1,""))) -> 3 | AD9: =IF((ISTEXT('Kierunek biologia (1)'!$F$52)),3,IF((ISTEXT('Kierunek biologia (1)'!$G$52)),2,IF(ISTEXT('Kierunek biologia (1)'!$H$52),1,""))) -> 3 | AE9: =IF((ISTEXT('Kierunek biologia (1)'!$F$56)),3,IF((ISTEXT('Kierunek biologia (1)'!$G$56)),2,IF(ISTEXT('Kierunek biologia (1)'!$H$56),1,""))) -> 3 | AF9: =IF((ISTEXT('Kierunek biologia (1)'!$F$57)),3,IF((ISTEXT('Kierunek biologia (1)'!$G$57)),2,IF(ISTEXT('Kierunek biologia (1)'!$H$57),1,""))) -> 3 | AG9: =IF((ISTEXT('Kierunek biologia (1)'!$F$61)),3,IF((ISTEXT('Kierunek biologia (1)'!$G$61)),2,IF(ISTEXT('Kierunek biologia (1)'!$H$61),1,""))) -> 3 | AH9: =IF((ISTEXT('Kierunek biologia (1)'!$F$62)),3,IF((ISTEXT('Kierunek biologia (1)'!$G$62)),2,IF(ISTEXT('Kierunek biologia (1)'!$H$62),1,""))) -> 3 | AI9: =IF((ISTEXT('Kierunek biologia (1)'!$F$66)),3,IF((ISTEXT('Kierunek biologia (1)'!$G$66)),2,IF(ISTEXT('Kierunek biologia (1)'!$H$66),1,""))) -> 3 | AJ9: =IF((ISTEXT('Kierunek biologia (1)'!$F$67)),3,IF((ISTEXT('Kierunek biologia (1)'!$G$67)),2,IF(ISTEXT('Kierunek biologia (1)'!$H$67),1,""))) -> 3 | AK9: =IF((ISTEXT('Kierunek biologia (1)'!$F$71)),3,IF((ISTEXT('Kierunek biologia (1)'!$G$71)),2,IF(ISTEXT('Kierunek biologia (1)'!$H$71),1,""))) -> 3 | AL9: =IF((ISTEXT('Kierunek biologia (1)'!$F$72)),3,IF((ISTEXT('Kierunek biologia (1)'!$G$72)),2,IF(ISTEXT('Kierunek biologia (1)'!$H$72),1,""))) -> 3 | AM9: =COUNT(F9:AL9)*3 -> 72 | AN9: =SUM(F9:AL9) -> 72 | AO9: =IFERROR(AN9/AM9,"") -> 1
A10: 2 | B10: =$B$4 -> WYDZIAŁ BIOLOGII I BIOTECHNOLOGII | C10: =IFERROR(VLOOKUP(B10,WYDZIAŁY!$A$19:$B$32,2,0),"") -> WBiB | D10: ='Kierunek technologia bio (2)'!D6:H6 -> technologia biomedyczna | E10: =IFERROR(AO10,"") -> 1 | F10: =IF((ISTEXT('Kierunek technologia bio (2)'!$F$13)),3,IF((ISTEXT('Kierunek technologia bio (2)'!$G$13)),2,IF(ISTEXT('Kierunek technologia bio (2)'!$H$13),1,""))) -> 3 | G10: =IF((ISTEXT('Kierunek technologia bio (2)'!$F$14)),3,IF((ISTEXT('Kierunek technologia bio (2)'!$G$14)),2,IF(ISTEXT('Kierunek technologia bio (2)'!$H$14),1,""))) -> 3 | H10: =IF((ISTEXT('Kierunek technologia bio (2)'!$F$15)),3,IF((ISTEXT('Kierunek technologia bio (2)'!$G$15)),2,IF(ISTEXT('Kierunek technologia bio (2)'!$H$15),1,""))) | I10: =IF((ISTEXT('Kierunek technologia bio (2)'!$F$16)),3,IF((ISTEXT('Kierunek technologia bio (2)'!$G$16)),2,IF(ISTEXT('Kierunek technologia bio (2)'!$H$16),1,""))) -> 3 | J10: =IF((ISTEXT('Kierunek technologia bio (2)'!$F$20)),3,IF((ISTEXT('Kierunek technologia bio (2)'!$G$20)),2,IF(ISTEXT('Kierunek technologia bio (2)'!$H$20),1,""))) -> 3 | K10: =IF((ISTEXT('Kierunek technologia bio (2)'!$F$21)),3,IF((ISTEXT('Kierunek technologia bio (2)'!$G$21)),2,IF(ISTEXT('Kierunek technologia bio (2)'!$H$21),1,""))) | L10: =IF((ISTEXT('Kierunek technologia bio (2)'!$F$22)),3,IF((ISTEXT('Kierunek technologia bio (2)'!$G$22)),2,IF(ISTEXT('Kierunek technologia bio (2)'!$H$22),1,""))) -> 3 | M10: =IF((ISTEXT('Kierunek technologia bio (2)'!$F$23)),3,IF((ISTEXT('Kierunek technologia bio (2)'!$G$23)),2,IF(ISTEXT('Kierunek technologia bio (2)'!$H$23),1,""))) | N10: =IF((ISTEXT('Kierunek technologia bio (2)'!$F$24)),3,IF((ISTEXT('Kierunek technologia bio (2)'!$G$24)),2,IF(ISTEXT('Kierunek technologia bio (2)'!$H$24),1,""))) -> 3 | O10: =IF((ISTEXT('Kierunek technologia bio (2)'!$F$25)),3,IF((ISTEXT('Kierunek technologia bio (2)'!$G$25)),2,IF(ISTEXT('Kierunek technologia bio (2)'!$H$25),1,""))) -> 3 | P10: =IF((ISTEXT('Kierunek technologia bio (2)'!$F$26)),3,IF((ISTEXT('Kierunek technologia bio (2)'!$G$26)),2,IF(ISTEXT('Kierunek technologia bio (2)'!$H$26),1,""))) | Q10: =IF((ISTEXT('Kierunek technologia bio (2)'!$F$27)),3,IF((ISTEXT('Kierunek technologia bio (2)'!$G$27)),2,IF(ISTEXT('Kierunek technologia bio (2)'!$H$27),1,""))) -> 3 | R10: =IF((ISTEXT('Kierunek technologia bio (2)'!$F$28)),3,IF((ISTEXT('Kierunek technologia bio (2)'!$G$28)),2,IF(ISTEXT('Kierunek technologia bio (2)'!$H$28),1,""))) | S10: =IF((ISTEXT('Kierunek technologia bio (2)'!$F$32)),3,IF((ISTEXT('Kierunek technologia bio (2)'!$G$32)),2,IF(ISTEXT('Kierunek technologia bio (2)'!$H$32),1,""))) -> 3 | T10: =IF((ISTEXT('Kierunek technologia bio (2)'!$F$33)),3,IF((ISTEXT('Kierunek technologia bio (2)'!$G$33)),2,IF(ISTEXT('Kierunek technologia bio (2)'!$H$33),1,""))) -> 3 | U10: =IF((ISTEXT('Kierunek technologia bio (2)'!$F$34)),3,IF((ISTEXT('Kierunek technologia bio (2)'!$G$34)),2,IF(ISTEXT('Kierunek technologia bio (2)'!$H$34),1,""))) | V10: =IF((ISTEXT('Kierunek technologia bio (2)'!$F$35)),3,IF((ISTEXT('Kierunek technologia bio (2)'!$G$35)),2,IF(ISTEXT('Kierunek technologia bio (2)'!$H$35),1,""))) -> 3 | W10: =IF((ISTEXT('Kierunek technologia bio (2)'!$F$39)),3,IF((ISTEXT('Kierunek technologia bio (2)'!$G$39)),2,IF(ISTEXT('Kierunek technologia bio (2)'!$H$39),1,""))) -> 3 | X10: =IF((ISTEXT('Kierunek technologia bio (2)'!$F$40)),3,IF((ISTEXT('Kierunek technologia bio (2)'!$G$40)),2,IF(ISTEXT('Kierunek technologia bio (2)'!$H$40),1,""))) | Y10: =IF((ISTEXT('Kierunek technologia bio (2)'!$F$41)),3,IF((ISTEXT('Kierunek technologia bio (2)'!$G$41)),2,IF(ISTEXT('Kierunek technologia bio (2)'!$H$41),1,""))) -> 3 | Z10: =IF((ISTEXT('Kierunek technologia bio (2)'!$F$45)),3,IF((ISTEXT('Kierunek technologia bio (2)'!$G$45)),2,IF(ISTEXT('Kierunek technologia bio (2)'!$H$45),1,""))) -> 3 | AA10: =IF((ISTEXT('Kierunek technologia bio (2)'!$F$46)),3,IF((ISTEXT('Kierunek technologia bio (2)'!$G$46)),2,IF(ISTEXT('Kierunek technologia bio (2)'!$H$46),1,""))) | AB10: =IF((ISTEXT('Kierunek technologia bio (2)'!$F$47)),3,IF((ISTEXT('Kierunek technologia bio (2)'!$G$47)),2,IF(ISTEXT('Kierunek technologia bio (2)'!$H$47),1,""))) -> 3 | AC10: =IF((ISTEXT('Kierunek technologia bio (2)'!$F$51)),3,IF((ISTEXT('Kierunek technologia bio (2)'!$G$51)),2,IF(ISTEXT('Kierunek technologia bio (2)'!$H$51),1,""))) -> 3 | AD10: =IF((ISTEXT('Kierunek technologia bio (2)'!$F$52)),3,IF((ISTEXT('Kierunek technologia bio (2)'!$G$52)),2,IF(ISTEXT('Kierunek technologia bio (2)'!$H$52),1,""))) -> 3 | AE10: =IF((ISTEXT('Kierunek technologia bio (2)'!$F$56)),3,IF((ISTEXT('Kierunek technologia bio (2)'!$G$56)),2,IF(ISTEXT('Kierunek technologia bio (2)'!$H$56),1,""))) -> 3 | AF10: =IF((ISTEXT('Kierunek technologia bio (2)'!$F$57)),3,IF((ISTEXT('Kierunek technologia bio (2)'!$G$57)),2,IF(ISTEXT('Kierunek technologia bio (2)'!$H$57),1,""))) -> 3 | AG10: =IF((ISTEXT('Kierunek technologia bio (2)'!$F$61)),3,IF((ISTEXT('Kierunek technologia bio (2)'!$G$61)),2,IF(ISTEXT('Kierunek technologia bio (2)'!$H$61),1,""))) -> 3 | AH10: =IF((ISTEXT('Kierunek technologia bio (2)'!$F$62)),3,IF((ISTEXT('Kierunek technologia bio (2)'!$G$62)),2,IF(ISTEXT('Kierunek technologia bio (2)'!$H$62),1,""))) -> 3 | AI10: =IF((ISTEXT('Kierunek technologia bio (2)'!$F$66)),3,IF((ISTEXT('Kierunek technologia bio (2)'!$G$66)),2,IF(ISTEXT('Kierunek technologia bio (2)'!$H$66),1,""))) -> 3 | AJ10: =IF((ISTEXT('Kierunek technologia bio (2)'!$F$67)),3,IF((ISTEXT('Kierunek technologia bio (2)'!$G$67)),2,IF(ISTEXT('Kierunek technologia bio (2)'!$H$67),1,""))) -> 3 | AK10: =IF((ISTEXT('Kierunek technologia bio (2)'!$F$71)),3,IF((ISTEXT('Kierunek technologia bio (2)'!$G$71)),2,IF(ISTEXT('Kierunek technologia bio (2)'!$H$71),1,""))) -> 3 | AL10: =IF((ISTEXT('Kierunek technologia bio (2)'!$F$72)),3,IF((ISTEXT('Kierunek technologia bio (2)'!$G$72)),2,IF(ISTEXT('Kierunek technologia bio (2)'!$H$72),1,""))) -> 3 | AM10: =COUNT(F10:AL10)*3 -> 75 | AN10: =SUM(F10:AL10) -> 75 | AO10: =IFERROR(AN10/AM10,"") -> 1
A11: 3 | B11: =$B$4 -> WYDZIAŁ BIOLOGII I BIOTECHNOLOGII | C11: =IFERROR(VLOOKUP(B11,WYDZIAŁY!$A$19:$B$32,2,0),"") -> WBiB | D11: ='Kierunek biotechnologia (3)'!D6:H6 -> biotechnologia | E11: =IFERROR(AO11,"") -> 1 | F11: =IF((ISTEXT('Kierunek biotechnologia (3)'!$F$13)),3,IF((ISTEXT('Kierunek biotechnologia (3)'!$G$13)),2,IF(ISTEXT('Kierunek biotechnologia (3)'!$H$13),1,""))) -> 3 | G11: =IF((ISTEXT('Kierunek biotechnologia (3)'!$F$14)),3,IF((ISTEXT('Kierunek biotechnologia (3)'!$G$14)),2,IF(ISTEXT('Kierunek biotechnologia (3)'!$H$14),1,""))) -> 3 | H11: =IF((ISTEXT('Kierunek biotechnologia (3)'!$F$15)),3,IF((ISTEXT('Kierunek biotechnologia (3)'!$G$15)),2,IF(ISTEXT('Kierunek biotechnologia (3)'!$H$15),1,""))) | I11: =IF((ISTEXT('Kierunek biotechnologia (3)'!$F$16)),3,IF((ISTEXT('Kierunek biotechnologia (3)'!$G$16)),2,IF(ISTEXT('Kierunek biotechnologia (3)'!$H$16),1,""))) -> 3 | J11: =IF((ISTEXT('Kierunek biotechnologia (3)'!$F$20)),3,IF((ISTEXT('Kierunek biotechnologia (3)'!$G$20)),2,IF(ISTEXT('Kierunek biotechnologia (3)'!$H$20),1,""))) -> 3 | K11: =IF((ISTEXT('Kierunek biotechnologia (3)'!$F$21)),3,IF((ISTEXT('Kierunek biotechnologia (3)'!$G$21)),2,IF(ISTEXT('Kierunek biotechnologia (3)'!$H$21),1,""))) | L11: =IF((ISTEXT('Kierunek biotechnologia (3)'!$F$22)),3,IF((ISTEXT('Kierunek biotechnologia (3)'!$G$22)),2,IF(ISTEXT('Kierunek biotechnologia (3)'!$H$22),1,""))) -> 3 | M11: =IF((ISTEXT('Kierunek biotechnologia (3)'!$F$23)),3,IF((ISTEXT('Kierunek biotechnologia (3)'!$G$23)),2,IF(ISTEXT('Kierunek biotechnologia (3)'!$H$23),1,""))) | N11: =IF((ISTEXT('Kierunek biotechnologia (3)'!$F$24)),3,IF((ISTEXT('Kierunek biotechnologia (3)'!$G$24)),2,IF(ISTEXT('Kierunek biotechnologia (3)'!$H$24),1,""))) -> 3 | O11: =IF((ISTEXT('Kierunek biotechnologia (3)'!$F$25)),3,IF((ISTEXT('Kierunek biotechnologia (3)'!$G$25)),2,IF(ISTEXT('Kierunek biotechnologia (3)'!$H$25),1,""))) -> 3 | P11: =IF((ISTEXT('Kierunek biotechnologia (3)'!$F$26)),3,IF((ISTEXT('Kierunek biotechnologia (3)'!$G$26)),2,IF(ISTEXT('Kierunek biotechnologia (3)'!$H$26),1,""))) | Q11: =IF((ISTEXT('Kierunek biotechnologia (3)'!$F$27)),3,IF((ISTEXT('Kierunek biotechnologia (3)'!$G$27)),2,IF(ISTEXT('Kierunek biotechnologia (3)'!$H$27),1,""))) -> 3 | R11: =IF((ISTEXT('Kierunek biotechnologia (3)'!$F$28)),3,IF((ISTEXT('Kierunek biotechnologia (3)'!$G$28)),2,IF(ISTEXT('Kierunek biotechnologia (3)'!$H$28),1,""))) | S11: =IF((ISTEXT('Kierunek biotechnologia (3)'!$F$32)),3,IF((ISTEXT('Kierunek biotechnologia (3)'!$G$32)),2,IF(ISTEXT('Kierunek biotechnologia (3)'!$H$32),1,""))) -> 3 | T11: =IF((ISTEXT('Kierunek biotechnologia (3)'!$F$33)),3,IF((ISTEXT('Kierunek biotechnologia (3)'!$G$33)),2,IF(ISTEXT('Kierunek biotechnologia (3)'!$H$33),1,""))) -> 3 | U11: =IF((ISTEXT('Kierunek biotechnologia (3)'!$F$34)),3,IF((ISTEXT('Kierunek biotechnologia (3)'!$G$34)),2,IF(ISTEXT('Kierunek biotechnologia (3)'!$H$34),1,""))) | V11: =IF((ISTEXT('Kierunek biotechnologia (3)'!$F$35)),3,IF((ISTEXT('Kierunek biotechnologia (3)'!$G$35)),2,IF(ISTEXT('Kierunek biotechnologia (3)'!$H$35),1,""))) -> 3 | W11: =IF((ISTEXT('Kierunek biotechnologia (3)'!$F$39)),3,IF((ISTEXT('Kierunek biotechnologia (3)'!$G$39)),2,IF(ISTEXT('Kierunek biotechnologia (3)'!$H$39),1,""))) -> 3 | X11: =IF((ISTEXT('Kierunek biotechnologia (3)'!$F$40)),3,IF((ISTEXT('Kierunek biotechnologia (3)'!$G$40)),2,IF(ISTEXT('Kierunek biotechnologia (3)'!$H$40),1,""))) | Y11: =IF((ISTEXT('Kierunek biotechnologia (3)'!$F$41)),3,IF((ISTEXT('Kierunek biotechnologia (3)'!$G$41)),2,IF(ISTEXT('Kierunek biotechnologia (3)'!$H$41),1,""))) -> 3 | Z11: =IF((ISTEXT('Kierunek biotechnologia (3)'!$F$45)),3,IF((ISTEXT('Kierunek biotechnologia (3)'!$G$45)),2,IF(ISTEXT('Kierunek biotechnologia (3)'!$H$45),1,""))) -> 3 | AA11: =IF((ISTEXT('Kierunek biotechnologia (3)'!$F$46)),3,IF((ISTEXT('Kierunek biotechnologia (3)'!$G$46)),2,IF(ISTEXT('Kierunek biotechnologia (3)'!$H$46),1,""))) | AB11: =IF((ISTEXT('Kierunek biotechnologia (3)'!$F$47)),3,IF((ISTEXT('Kierunek biotechnologia (3)'!$G$47)),2,IF(ISTEXT('Kierunek biotechnologia (3)'!$H$47),1,""))) -> 3 | AC11: =IF((ISTEXT('Kierunek biotechnologia (3)'!$F$51)),3,IF((ISTEXT('Kierunek biotechnologia (3)'!$G$51)),2,IF(ISTEXT('Kierunek biotechnologia (3)'!$H$51),1,""))) -> 3 | AD11: =IF((ISTEXT('Kierunek biotechnologia (3)'!$F$52)),3,IF((ISTEXT('Kierunek biotechnologia (3)'!$G$52)),2,IF(ISTEXT('Kierunek biotechnologia (3)'!$H$52),1,""))) -> 3 | AE11: =IF((ISTEXT('Kierunek biotechnologia (3)'!$F$56)),3,IF((ISTEXT('Kierunek biotechnologia (3)'!$G$56)),2,IF(ISTEXT('Kierunek biotechnologia (3)'!$H$56),1,""))) -> 3 | AF11: =IF((ISTEXT('Kierunek biotechnologia (3)'!$F$57)),3,IF((ISTEXT('Kierunek biotechnologia (3)'!$G$57)),2,IF(ISTEXT('Kierunek biotechnologia (3)'!$H$57),1,""))) -> 3 | AG11: =IF((ISTEXT('Kierunek biotechnologia (3)'!$F$61)),3,IF((ISTEXT('Kierunek biotechnologia (3)'!$G$61)),2,IF(ISTEXT('Kierunek biotechnologia (3)'!$H$61),1,""))) -> 3 | AH11: =IF((ISTEXT('Kierunek biotechnologia (3)'!$F$62)),3,IF((ISTEXT('Kierunek biotechnologia (3)'!$G$62)),2,IF(ISTEXT('Kierunek biotechnologia (3)'!$H$62),1,""))) -> 3 | AI11: =IF((ISTEXT('Kierunek biotechnologia (3)'!$F$66)),3,IF((ISTEXT('Kierunek biotechnologia (3)'!$G$66)),2,IF(ISTEXT('Kierunek biotechnologia (3)'!$H$66),1,""))) -> 3 | AJ11: =IF((ISTEXT('Kierunek biotechnologia (3)'!$F$67)),3,IF((ISTEXT('Kierunek biotechnologia (3)'!$G$67)),2,IF(ISTEXT('Kierunek biotechnologia (3)'!$H$67),1,""))) -> 3 | AK11: =IF((ISTEXT('Kierunek biotechnologia (3)'!$F$71)),3,IF((ISTEXT('Kierunek biotechnologia (3)'!$G$71)),2,IF(ISTEXT('Kierunek biotechnologia (3)'!$H$71),1,""))) -> 3 | AL11: =IF((ISTEXT('Kierunek biotechnologia (3)'!$F$72)),3,IF((ISTEXT('Kierunek biotechnologia (3)'!$G$72)),2,IF(ISTEXT('Kierunek biotechnologia (3)'!$H$72),1,""))) -> 3 | AM11: =COUNT(F11:AL11)*3 -> 75 | AN11: =SUM(F11:AL11) -> 75 | AO11: =IFERROR(AN11/AM11,"") -> 1

Sheet DOBRE PRAKTYKI
B2: =Start!$A$12 -> WYDZIAŁ BIOLOGII I BIOTECHNOLOGII
B4: Dobre praktyki dla kierunku: | C4: ='Kierunek biologia (1)'!$D$6 -> biologia
B7: Kryterium | C7: Dobra praktyka
B8: DOBRE PRAKTYKI dla Kryterium 1. Konstrukcja programu studiów: koncepcja, cele kształcenia i efekty uczenia się | C8: =IF('Kierunek biologia (1)'!$D$18=0,"",'Kierunek biologia (1)'!$D$18) -> Konstruowanie programu w oparciu o szerokie konsultacje w środowisku interesariuszy zewnętrznych i wewnętrznych Konstrukcję programu studiów o dużej elastyczności z możliwością jego uzupełniania o nowe przedmioty odpowiadające najnowszym światowym trendom. Cykliczna ocena efektów uczenia się osiąganych przez studentów na kierunku.
B9: DOBRE PRAKTYKI dla Kryterium 2. Realizacja programu studiów: treści programowe, harmonogram realizacji programu studiów oraz formy i organizacja zajęć, metody kształcenia, praktyki zawodowe, organizacja procesu nauczania i uczenia się | C9: =IF('Kierunek biologia (1)'!$D$30=0,"",'Kierunek biologia (1)'!$D$30) -> Cykliczny przegląd programu studiów i sylabusów przedmiotów w celu dostosowania treści programowych i harmonogramu realizacji zajęć. Elastyczność w realizacji harmonogramu zajęć z możliwością dostosowania harmonogramu do potrzeb studenta. Bliska współpraca z Interesariuszami zewnętrznymi w celu stałego przystosowywania programu studiów do potrzeb otoczenia społeczno-gospodarczego. Analiza ankiet studenckich po realizacji praktyk, ankiet wydziałowych i ogólnouczelnianych w celu usprawnienia organizacji procesu nauczania.
B10: DOBRE PRAKTYKI dla Kryterium 3. Przyjęcie na studia, weryfikacja osiągnięcia przez studentów efektów uczenia się, zaliczanie poszczególnych semestrów i lat oraz dyplomowanie | C10: =IF('Kierunek biologia (1)'!$D$37=0,"",'Kierunek biologia (1)'!$D$37) -> Szeroka dostępność informacji o warunkach przyjęcia kandydatów na studia w informatorach oraz stronach internetowych Wydziału, Uczelni oraz zewnętrznych stronach internetowych zawierających jasno sformułowane informacje dotyczące rekrutacji na studia. Systematyczne wypełnianie przez prowadzących przedmioty formularzy weryfikacji efektów uczenia się oraz ich analiza wykonywana przez koordynatora ds. jakości kształcenia. Weryfikacja osiąganych przez studentów efektów uczenia się poprzez analizę ankiet wydziałowych i ogólnouczelnianych. Coroczna weryfikacja 10% prac dyplomowych oraz recenzji prac dyplomowych.
B11: DOBRE PRAKTYKI dla Kryterium 4. Kompetencje, doświadczenie, kwalifikacje i liczebność kadry prowadzącej kształcenie oraz rozwój i doskonalenie kadry | C11: =IF('Kierunek biologia (1)'!$D$43=0,"",'Kierunek biologia (1)'!$D$43) -> Właściwy dobór kadry dydaktycznej, posiadającej udokumentowany dorobek naukowy w zakresie nauczanych przedmiotów. Okresowa analiza spójności kształcenia z działalnością naukową oszacowana na podstawie opracowanego współczynnika spójności. Okresowa hospitacja prowadzonych zajęć mająca na celu weryfikację przekazywanych treści, metod dydaktycznych oraz rozmów ze studentami dotyczących realizacji treści programowych.
B12: DOBRE PRAKTYKI dla Kryterium 5. Infrastruktura i zasoby edukacyjne wykorzystywane w realizacji programu studiów oraz ich doskonalenie | C12: =IF('Kierunek biologia (1)'!$D$49=0,"",'Kierunek biologia (1)'!$D$49) -> Okresowy przegląd infrastruktury wykorzystywanej w realizacji programu studiów. Nadzór nad dostępnością infrastruktury dla osób z niepełnosprawnością. Analiza Wydziałowych i ogólnouczelnianych studenckich ankiet dotyczących infrastruktury i zasobów edukacyjnych wykorzystywanych w realizacji programu studiów.
B13: DOBRE PRAKTYKI dla Kryterium 6. Współpraca z otoczeniem społeczno-gospodarczym w konstruowaniu, realizacji i doskonaleniu programu studiów oraz jej wpływ na rozwój kierunku | C13: =IF('Kierunek biologia (1)'!$D$54=0,"",'Kierunek biologia (1)'!$D$54) -> Powołanie przez Wydział i rozwój Rady Interesariuszy WBiB dzięki czemu Wydział jest w stałym kontakcie z przedstawicielami otoczenia społeczno-gospodarczego i otrzymuje na bieżąco opinie o programach studiów oraz informacje o możliwościach realizacji prac dyplomowych, praktyk i staży. Współpraca z otoczeniem społeczno-gospodarczym jest weryfikowana przez studentów w ramach ankiet wypełnianych po realizacji praktyk, ankiet studenckich ogólnouczelnianych i Wydziałowych.
B14: DOBRE PRAKTYKI dla Kryterium 7. Warunki i sposoby podnoszenia stopnia umiędzynarodowienia procesu kształcenia na kierunku | C14: =IF('Kierunek biologia (1)'!$D$59=0,"",'Kierunek biologia (1)'!$D$59) -> Zapewnienie dobrej dostępności informacji o programach wymiany i innych formach umiędzynarodowienia. Stopień umiędzynarodowienia kształcenia jest oceniany przez studentów w ramach ankiet Wydziałowych oraz ankiet satysfakcji studentów Wydziału dotyczących programu Erasmus+ oraz interakcji z koordynatorami ds. wymiany studenckiej na Wydziale.
B15: DOBRE PRAKTYKI dla Kryterium 8. Wsparcie studentów w uczeniu się, rozwoju społecznym, naukowym lub zawodowym i wejściu na rynek pracy oraz rozwój i doskonalenie form wsparcia | C15: =IF('Kierunek biologia (1)'!$D$64=0,"",'Kierunek biologia (1)'!$D$64) -> Dobra dostępność do informacji możliwościach wsparcia studentów w uczeniu się i rozwoju. Raportowanie aktywności dziekanatów w działalności mającej na celu wsparcie studentów w procesie uczenia się. Analiza ankiet Wydziałowych dotyczących wsparcia w procesie uczenia się oraz funkcjonowania dziekanatów.
B16: DOBRE PRAKTYKI dla Kryterium 9. Publiczny dostęp do informacji o programie studiów, warunkach jego realizacji i osiąganych rezultatach | C16: =IF('Kierunek biologia (1)'!$D$69=0,"",'Kierunek biologia (1)'!$D$69) -> Dostęp do szczegółowych informacje dotyczące realizacji procesu nauczania, regulaminów programu studiów, uzyskiwanych efektów uczenia się oraz przekazywanych treści programowych przez stronie internetowej Wydziału i Uczelni oraz konto studenckie eHMS. Stały nadzór i udoskonalanie informacji o studiach poprzez działania promocyjne i analizę Wydziałowej ankiety studenckiej
B17: DOBRE PRAKTYKI dla Kryterium 10. Polityka jakości, projektowanie, zatwierdzanie, monitorowanie, przegląd i doskonalenie programu studiów. | C17: =IF('Kierunek biologia (1)'!$D$74=0,"",'Kierunek biologia (1)'!$D$74) -> Bliska współpraca z Interesariuszami zewnętrznymi w ramach Rady Interesariuszy zewnętrznych w celu stałego monitorowania i przeglądu programu studiów. Wypełnianie przez prowadzących zajęcia formularzy weryfikacji efektów uczenia się (WEU). Analiza formularzy weryfikacji efektów uczenia się oraz ankiet studenckich oraz przedstawianie analiz na Radzie programowej Wydziału. Informowanie studentów o potrzebie wypełniania ankiet w celu skutecznego monitorowania jakości kształcenia na Wydziale.
B39: =Start!$A$12 -> WYDZIAŁ BIOLOGII I BIOTECHNOLOGII
B41: Dobre praktyki dla kierunku: | C41: ='Kierunek technologia bio (2)'!$D$6 -> technologia biomedyczna
B44: Kryterium | C44: Dobra praktyka
B45: DOBRE PRAKTYKI dla Kryterium 1. Konstrukcja programu studiów: koncepcja, cele kształcenia i efekty uczenia się | C45: =IF('Kierunek technologia bio (2)'!$D$18=0,"",'Kierunek technologia bio (2)'!$D$18) -> Konstruowanie programu w oparciu o szerokie konsultacje w środowisku interesariuszy zewnętrznych i wewnętrznych Konstrukcję programu studiów o dużej elastyczności z możliwością jego uzupełniania o nowe przedmioty odpowiadające najnowszym światowym trendom. Cykliczna ocena efektów uczenia się osiąganych przez studentów na kierunku.
B46: DOBRE PRAKTYKI dla Kryterium 2. Realizacja programu studiów: treści programowe, harmonogram realizacji programu studiów oraz formy i organizacja zajęć, metody kształcenia, praktyki zawodowe, organizacja procesu nauczania i uczenia się | C46: =IF('Kierunek technologia bio (2)'!$D$30=0,"",'Kierunek technologia bio (2)'!$D$30) -> Cykliczny przegląd programu studiów i sylabusów przedmiotów w celu dostosowania treści programowych i harmonogramu realizacji zajęć. Elastyczność w realizacji harmonogramu zajęć z możliwością dostosowania harmonogramu do potrzeb studenta. Bliska współpraca z Interesariuszami zewnętrznymi w celu stałego przystosowywania programu studiów do potrzeb otoczenia społeczno-gospodarczego. Analiza ankiet Wydziałowych i ogólnouczelnianych w celu usprawnienia organizacji procesu nauczania.
B47: DOBRE PRAKTYKI dla Kryterium 3. Przyjęcie na studia, weryfikacja osiągnięcia przez studentów efektów uczenia się, zaliczanie poszczególnych semestrów i lat oraz dyplomowanie | C47: =IF('Kierunek technologia bio (2)'!$D$37=0,"",'Kierunek technologia bio (2)'!$D$37) -> Szeroka dostępność informacji o warunkach przyjęcia kandydatów na studia w informatorach oraz stronach internetowych Wydziału, Uczelni oraz zewnętrznych stronach internetowych zawierających jasno sformułowane informacje dotyczące rekrutacji na studia. Systematyczne wypełnianie przez prowadzących przedmioty formularzy weryfikacji efektów uczenia się oraz ich analiza wykonywana przez koordynatora ds. jakości kształcenia. Weryfikacja osiąganych przez studentów efektów uczenia się poprzez analizę ankiet wydziałowych i ogólnouczelnianych.
B48: DOBRE PRAKTYKI dla Kryterium 4. Kompetencje, doświadczenie, kwalifikacje i liczebność kadry prowadzącej kształcenie oraz rozwój i doskonalenie kadry | C48: =IF('Kierunek technologia bio (2)'!$D$43=0,"",'Kierunek technologia bio (2)'!$D$43) -> Właściwy dobór kadry dydaktycznej, posiadającej udokumentowany dorobek naukowy w zakresie nauczanych przedmiotów. Okresowa analiza spójności kształcenia z działalnością naukową oszacowana na podstawie opracowanego współczynnika spójności. Okresowa hospitacja prowadzonych zajęć mająca na celu weryfikację przekazywanych treści, metod dydaktycznych oraz rozmów ze studentami dotyczących realizacji treści programowych.
B49: DOBRE PRAKTYKI dla Kryterium 5. Infrastruktura i zasoby edukacyjne wykorzystywane w realizacji programu studiów oraz ich doskonalenie | C49: =IF('Kierunek technologia bio (2)'!$D$49=0,"",'Kierunek technologia bio (2)'!$D$49) -> Okresowy przegląd infrastruktury wykorzystywanej w realizacji programu studiów. Nadzór nad dostępnością infrastruktury dla osób z niepełnosprawnością. Analiza Wydziałowych i ogólnouczelnianych studenckich ankiet dotyczących infrastruktury i zasobów edukacyjnych wykorzystywanych w realizacji programu studiów.
B50: DOBRE PRAKTYKI dla Kryterium 6. Współpraca z otoczeniem społeczno-gospodarczym w konstruowaniu, realizacji i doskonaleniu programu studiów oraz jej wpływ na rozwój kierunku | C50: =IF('Kierunek technologia bio (2)'!$D$54=0,"",'Kierunek technologia bio (2)'!$D$54) -> Powołanie przez Wydział i rozwój Rady Interesariuszy WBiB dzięki czemu Wydział jest w stałym kontakcie z przedstawicielami otoczenia społeczno-gospodarczego i otrzymuje na bieżąco opinie o programach studiów oraz informacje o możliwościach realizacji prac dyplomowych, praktyk i staży. Współpraca z otoczeniem społeczno-gospodarczym jest weryfikowana przez studentów w ramach ankiet wypełnianych po realizacji praktyk, ankiet studenckich ogólnouczelnianych i Wydziałowych.
B51: DOBRE PRAKTYKI dla Kryterium 7. Warunki i sposoby podnoszenia stopnia umiędzynarodowienia procesu kształcenia na kierunku | C51: =IF('Kierunek technologia bio (2)'!$D$59=0,"",'Kierunek technologia bio (2)'!$D$59) -> Zapewnienie dobrej dostępności informacji o programach wymiany i innych formach umiędzynarodowienia.
B52: DOBRE PRAKTYKI dla Kryterium 8. Wsparcie studentów w uczeniu się, rozwoju społecznym, naukowym lub zawodowym i wejściu na rynek pracy oraz rozwój i doskonalenie form wsparcia | C52: =IF('Kierunek technologia bio (2)'!$D$64=0,"",'Kierunek technologia bio (2)'!$D$64) -> Dobra dostępność do informacji możliwościach wsparcia studentów w uczeniu się i rozwoju. Raportowanie aktywności dziekanatów w działalności mającej na celu wsparcie studentów w procesie uczenia się. Analiza ankiet Wydziałowych dotyczących wsparcia w procesie uczenia się oraz funkcjonowania dziekanatów.
B53: DOBRE PRAKTYKI dla Kryterium 9. Publiczny dostęp do informacji o programie studiów, warunkach jego realizacji i osiąganych rezultatach | C53: =IF('Kierunek technologia bio (2)'!$D$69=0,"",'Kierunek technologia bio (2)'!$D$69) -> Dostęp do szczegółowych informacje dotyczące realizacji procesu nauczania, regulaminów programu studiów, uzyskiwanych efektów uczenia się oraz przekazywanych treści programowych przez stronie internetowej Wydziału i Uczelni oraz konto studenckie eHMS. Stały nadzór i udoskonalanie informacji o studiach poprzez działania promocyjne i analizę Wydziałowej ankiety studenckiej
B54: DOBRE PRAKTYKI dla Kryterium 10. Polityka jakości, projektowanie, zatwierdzanie, monitorowanie, przegląd i doskonalenie programu studiów. | C54: =IF('Kierunek technologia bio (2)'!$D$74=0,"",'Kierunek technologia bio (2)'!$D$74) -> Bliska współpraca z Interesariuszami zewnętrznymi w ramach Rady Interesariuszy zewnętrznych w celu stałego monitorowania i przeglądu programu studiów. Wypełnianie przez prowadzących zajęcia formularzy weryfikacji efektów uczenia się (WEU). Analiza formularzy weryfikacji efektów uczenia się oraz ankiet studenckich oraz przedstawianie analiz na Radzie programowej Wydziału. Informowanie studentów o potrzebie wypełniania ankiet w celu skutecznego monitorowania jakości kształcenia na Wydziale.
B88: =Start!$A$12 -> WYDZIAŁ BIOLOGII I BIOTECHNOLOGII
B90: Dobre praktyki dla kierunku: | C90: ='Kierunek biotechnologia (3)'!$D$6 -> biotechnologia
B93: Kryterium | C93: Dobra praktyka
B94: DOBRE PRAKTYKI dla Kryterium 1. Konstrukcja programu studiów: koncepcja, cele kształcenia i efekty uczenia się | C94: =IF('Kierunek biotechnologia (3)'!$D$18=0,"",'Kierunek biotechnologia (3)'!$D$18) -> Konstruowanie programu w oparciu o szerokie konsultacje w środowisku interesariuszy zewnętrznych i wewnętrznych Konstrukcję programu studiów o dużej elastyczności z możliwością jego uzupełniania o nowe przedmioty odpowiadające najnowszym światowym trendom. Cykliczna ocena efektów uczenia się osiąganych przez studentów na kierunku.
B95: DOBRE PRAKTYKI dla Kryterium 2. Realizacja programu studiów: treści programowe, harmonogram realizacji programu studiów oraz formy i organizacja zajęć, metody kształcenia, praktyki zawodowe, organizacja procesu nauczania i uczenia się | C95: =IF('Kierunek biotechnologia (3)'!$D$30=0,"",'Kierunek biotechnologia (3)'!$D$30) -> Cykliczny przegląd programu studiów i sylabusów przedmiotów w celu dostosowania treści programowych i harmonogramu realizacji zajęć. Elastyczność w realizacji harmonogramu zajęć z możliwością dostosowania harmonogramu do potrzeb studenta. Bliska współpraca z Interesariuszami zewnętrznymi w celu stałego przystosowywania programu studiów do potrzeb otoczenia społeczno-gospodarczego. Analiza ankiet studenckich po realizacji praktyk, ankiet wydziałowych i ogólnouczelnianych w celu usprawnienia organizacji procesu nauczania.
B96: DOBRE PRAKTYKI dla Kryterium 3. Przyjęcie na studia, weryfikacja osiągnięcia przez studentów efektów uczenia się, zaliczanie poszczególnych semestrów i lat oraz dyplomowanie | C96: =IF('Kierunek biotechnologia (3)'!$D$37=0,"",'Kierunek biotechnologia (3)'!$D$37) -> Szeroka dostępność informacji o warunkach przyjęcia kandydatów na studia w informatorach oraz stronach internetowych Wydziału, Uczelni oraz zewnętrznych stronach internetowych zawierających jasno sformułowane informacje dotyczące rekrutacji na studia. Systematyczne wypełnianie przez prowadzących przedmioty formularzy weryfikacji efektów uczenia się oraz ich analiza wykonywana przez koordynatora ds. jakości kształcenia. Weryfikacja osiąganych przez studentów efektów uczenia się poprzez analizę ankiet wydziałowych i ogólnouczelnianych. Coroczna weryfikacja 10%prac dyplomowych oraz recenzji prac dyplomowych.
B97: DOBRE PRAKTYKI dla Kryterium 4. Kompetencje, doświadczenie, kwalifikacje i liczebność kadry prowadzącej kształcenie oraz rozwój i doskonalenie kadry | C97: =IF('Kierunek biotechnologia (3)'!$D$43=0,"",'Kierunek biotechnologia (3)'!$D$43) -> Właściwy dobór kadry dydaktycznej, posiadającej udokumentowany dorobek naukowy w zakresie nauczanych przedmiotów. Okresowa analiza spójności kształcenia z działalnością naukową oszacowana na podstawie opracowanego współczynnika spójności. Okresowa hospitacja prowadzonych zajęć mająca na celu weryfikację przekazywanych treści, metod dydaktycznych oraz rozmów ze studentami dotyczących realizacji treści programowych.
B98: DOBRE PRAKTYKI dla Kryterium 5. Infrastruktura i zasoby edukacyjne wykorzystywane w realizacji programu studiów oraz ich doskonalenie | C98: =IF('Kierunek biotechnologia (3)'!$D$49=0,"",'Kierunek biotechnologia (3)'!$D$49) -> Okresowy przegląd infrastruktury wykorzystywanej w realizacji programu studiów. Nadzór nad dostępnością infrastruktury dla osób z niepełnosprawnością. Analiza Wydziałowych i ogólnouczelnianych studenckich ankiet dotyczących infrastruktury i zasobów edukacyjnych wykorzystywanych w realizacji programu studiów.
B99: DOBRE PRAKTYKI dla Kryterium 6. Współpraca z otoczeniem społeczno-gospodarczym w konstruowaniu, realizacji i doskonaleniu programu studiów oraz jej wpływ na rozwój kierunku | C99: =IF('Kierunek biotechnologia (3)'!$D$54=0,"",'Kierunek biotechnologia (3)'!$D$54) -> Powołanie przez Wydział i rozwój Rady Interesariuszy WBiB dzięki czemu Wydział jest w stałym kontakcie z przedstawicielami otoczenia społeczno-gospodarczego i otrzymuje na bieżąco opinie o programach studiów oraz informacje o możliwościach realizacji prac dyplomowych, praktyk i staży. Współpraca z otoczeniem społeczno-gospodarczym jest weryfikowana przez studentów w ramach ankiet wypełnianych po realizacji praktyk, ankiet studenckich ogólnouczelnianych i Wydziałowych.
B100: DOBRE PRAKTYKI dla Kryterium 7. Warunki i sposoby podnoszenia stopnia umiędzynarodowienia procesu kształcenia na kierunku | C100: =IF('Kierunek biotechnologia (3)'!$D$59=0,"",'Kierunek biotechnologia (3)'!$D$59) -> Zapewnienie dobrej dostępności informacji o programach wymiany i innych formach umiędzynarodowienia. Stopień umiędzynarodowienia kształcenia jest oceniany przez studentów w ramach ankiet Wydziałowych oraz ankiet satysfakcji studentów Wydziału dotyczących programu Erasmus+ oraz interakcji z koordynatorami ds. wymiany studenckiej na Wydziale.
B101: DOBRE PRAKTYKI dla Kryterium 8. Wsparcie studentów w uczeniu się, rozwoju społecznym, naukowym lub zawodowym i wejściu na rynek pracy oraz rozwój i doskonalenie form wsparcia | C101: =IF('Kierunek biotechnologia (3)'!$D$64=0,"",'Kierunek biotechnologia (3)'!$D$64) -> Dobra dostępność do informacji możliwościach wsparcia studentów w uczeniu się i rozwoju. Raportowanie aktywności dziekanatów w działalności mającej na celu wsparcie studentów w procesie uczenia się. Analiza ankiet Wydziałowych dotyczących wsparcia w procesie uczenia się oraz funkcjonowania dziekanatów.
B102: DOBRE PRAKTYKI dla Kryterium 9. Publiczny dostęp do informacji o programie studiów, warunkach jego realizacji i osiąganych rezultatach | C102: =IF('Kierunek biotechnologia (3)'!$D$69=0,"",'Kierunek biotechnologia (3)'!$D$69) -> Dostęp do szczegółowych informacje dotyczące realizacji procesu nauczania, regulaminów programu studiów, uzyskiwanych efektów uczenia się oraz przekazywanych treści programowych przez stronie internetowej Wydziału i Uczelni oraz konto studenckie eHMS. Stały nadzór i udoskonalanie informacji o studiach poprzez działania promocyjne i analizę Wydziałowej ankiety studenckiej
B103: DOBRE PRAKTYKI dla Kryterium 10. Polityka jakości, projektowanie, zatwierdzanie, monitorowanie, przegląd i doskonalenie programu studiów. | C103: =IF('Kierunek biotechnologia (3)'!$D$74=0,"",'Kierunek biotechnologia (3)'!$D$74) -> Bliska współpraca z Interesariuszami zewnętrznymi w ramach Rady Interesariuszy zewnętrznych w celu stałego monitorowania i przeglądu programu studiów. Wypełnianie przez prowadzących zajęcia formularzy weryfikacji efektów uczenia się (WEU). Analiza formularzy weryfikacji efektów uczenia się oraz ankiet studenckich oraz przedstawianie analiz na Radzie programowej Wydziału. Informowanie studentów o potrzebie wypełniania ankiet w celu skutecznego monitorowania jakości kształcenia na Wydziale.
B134: =Start!$A$12 -> WYDZIAŁ BIOLOGII I BIOTECHNOLOGII
...

Sheet Kierunek biologia (1)
B2: Analiza i ocena funkcjonowania Wewnętrznego Systemu Zapewnienia i Doskonalenia Jakości Kształcenia
A6: =Start!A12 -> WYDZIAŁ BIOLOGII I BIOTECHNOLOGII | D6: biologia
A9: A | B9: B | C9: C | D9: D | E9: E | F9: F
A10: Lp. | B10: Weryfikowane kryteria w ramach przeglądu systemu jakości kształcenia. | C10: Jakie działania (narzędzia) wykorzystano do monitorowania? | D10: Jakie wnioski płyną z wykonanych analiz w odniesieniu do kierunku? | E10: Co zostało zmienione w zakresie kształcenia na kierunku na podstawie wyciągniętych wniosków? | F10: Na ile osiągnięte zostały cele opisane w kryterium?
F11: wysoko | G11: średnio | H11: nisko
B12: Kryterium 1. Konstrukcja programu studiów: koncepcja, cele kształcenia i efekty uczenia się | F12: 3 | G12: 2 | H12: 1
A13: 1.1 | B13: Koncepcja i cele kształcenia są zgodne ze strategią uczelni, mieszczą się w dyscyplinie lub dyscyplinach, do których kierunek jest przyporządkowany, są powiązane z działalnością naukową prowadzoną w uczelni w tej dyscyplinie lub dyscyplinach oraz zorientowane na potrzeby otoczenia społeczno-gospodarczego, w tym w szczególności zawodowego rynku pracy. | C13: 1, 2, 3, 5, 6, 7, 10, 11, 12, 13, 15, 17, 18, 19, 20 | D13: Na podstawie wniosków z monitoringu jakości kształcenia stwierdzono, że koncepcja i cele kształcenia są zgodne ze strategią i dyscyplinami oraz zorientowane na potrzeby otoczenia społeczno-gospodarczego, w tym w szczególności zawodowego rynku pracy. Koordynator ds. spójności kształcenia z działalnością naukową oszacował współczynnik spójności kształcenia z działalnością naukową na podstawie danych z Bazy Wiedzy SGGW w Warszawie Omega-PSIR 4.5.10), stan na dzień 15.09.2025. Średnia wartość współczynnika spójności kształcenia z działalnością naukową dla wszystkich analizowanych pracowników dydaktycznych wyniosła 97% | F13: x
A14: 1.2 | B14: Efekty uczenia się są zgodne z koncepcją i celami kształcenia oraz dyscypliną lub dyscyplinami, do których jest przyporządkowany kierunek, opisują, w sposób trafny, specyficzny, realistyczny i pozwalający na stworzenie systemu weryfikacji, wiedzę, umiejętności i kompetencje społeczne osiągane przez studentów, a także odpowiadają właściwemu poziomowi Polskiej Ramy Kwalifikacji oraz profilowi ogólnoakademickiemu. | C14: 3, 11, 13 | D14: Nie stwierdzono potrzeby wprowadzania zmian efektów uczenia się na kierunku biologia, bo dobrze charakteryzują sylwetkę absolwenta i pozwalają w sposób obiektywny weryfikować wiedzę, umiejętności i kompetencje osiągane przez studentów podczas realizacji poszczególnych przedmiotów. Weryfikacja efektów uczenia się przeprowadzona przez koordynatorów przedmiotów potwierdziła osiągnięcie zaplanowanych efektów uczenia się. Koordynatorzy przedmiotów zgłaszali konieczność corocznej aktualizacji treści programowych przedmiotów. Dotyczyło to szczególnie przedmiotów, które omawiają szybko rozwijające się tematy naukowe | F14: x
A15: 1.2a | B15: Efekty uczenia się w przypadku kierunków studiów przygotowujących do wykonywania zawodów regulowanych, zawierają pełny zakres ogólnych i szczegółowych efektów uczenia się zawartych w standardach kształcenia określonych w rozporządzeniach wykonawczych. | D15: Nie dotyczy
A16: 1.2b | B16: Efekty uczenia się w przypadku kierunków studiów kończących się uzyskaniem tytułu zawodowego inżyniera lub magistra inżyniera zawierają pełny zakres efektów, umożliwiających uzyskanie kompetencji inżynierskich, zawartych w charakterystykach drugiego stopnia określonych w przepisach o Zintegrowanym Systemie Kwalifikacji. | D16: Nie dotyczy
D17: =_xlfn.CONCAT("DOBRE PRAKTYKI dla ",B12) -> DOBRE PRAKTYKI dla Kryterium 1. Konstrukcja programu studiów: koncepcja, cele kształcenia i efekty uczenia się
D18: Konstruowanie programu w oparciu o szerokie konsultacje w środowisku interesariuszy zewnętrznych i wewnętrznych Konstrukcję programu studiów o dużej elastyczności z możliwością jego uzupełniania o nowe przedmioty odpowiadające najnowszym światowym trendom. Cykliczna ocena efektów uczenia się osiąganych przez studentów na kierunku.
B19: Kryterium 2. Realizacja programu studiów: treści programowe, harmonogram realizacji programu studiów oraz formy i organizacja zajęć, metody kształcenia, praktyki zawodowe, organizacja procesu nauczania i uczenia się
A20: 2.1 | B20: Treści programowe są zgodne z efektami uczenia się oraz uwzględniają w szczególności aktualny stan wiedzy i metodyki badań w dyscyplinie lub dyscyplinach, do których jest przyporządkowany kierunek, jak również wyniki działalności naukowej uczelni w tej dyscyplinie lub dyscyplinach; oraz są kompleksowe i specyficzne dla zajęć tworzących program studiów i zapewniają uzyskanie wszystkich efektów uczenia się | C20: 1, 2, 3, 5, 6, 7, 8, 9, 10, 11, 12, 15, 17, 18, 19, 20 | D20: Na podstawie wytycznych ogólnouczelnianych oraz wniosków z przeglądu sylabusów stwierdzono zgodność dobrania treści programowych na kierunku Biologia, z efektami uczenia się oraz aktualnym stanem wiedzy i metodyki badań w dyscyplinach, do których kierunek jest przyporządkowany. Zespół ds. dydyaktyki opiniował propozycje fakultetów dla I i II stopnia studiów. Zespół ds. dydaktyki przeprowadził również monitoring treści sylabusów | E20: Zespół ds. dydyaktyki opiniowanie propozycji fakultetów dla I i II stopnia. Dodatkowo zespół modyfikował listę pytań na egzamin licencjacki. Przeprowadzono monitorowanie treści sylabusów oraz zaktualizowano dostępność tematów prac dyplomowych. | F20: x
A21: 2.1a | B21: Treści programowe w przypadku kierunków studiów przygotowujących do wykonywania zawodów regulowanych obejmują pełny zakres treści programowych zawartych w standardach kształcenia określonych w rozporządzeniach wykonawczych. | D21: Nie dotyczy
A22: 2.2 | B22: Harmonogram realizacji programu studiów oraz formy i organizacja zajęć, a także liczba semestrów, liczba godzin zajęć prowadzonych z bezpośrednim udziałem nauczycieli akademickich lub innych osób prowadzących zajęcia i szacowany nakład pracy studentów mierzony liczbą punktów ECTS, umożliwiają studentom osiągnięcie wszystkich efektów uczenia się. | C22: 1, 2, 3, 5, 6, 7, 8, 9, 10, 11, 12, 15, 17, 18, 19, 20 | D22: Na wniosek prowadzących zajęcia lub studentów możliwe jest wprowadzenie zmian w ustalonym harmonogramie - zmiany w terminach prowadzonych zajęć po pisemnym zgłoszeniu do Dziekanatu. Programy studiów oraz harmonogram ich realizacji są monitorowane przez zespół roboczy ds. dydaktyki, któremu przewodniczy prodziekan Wydziału. Ponadto weryfikacja programu studiów prowadzona jest poprzez studenckie ankiety ogólnouczelniane, ankiety wewnątrz wydziałowe oraz rozmowy ze studentami i prowadzącymi zajęcia. | F22: x
A23: 2.2a | B23: Harmonogram realizacji programu studiów oraz formy i organizacja zajęć, a także liczba semestrów, liczba godzin zajęć prowadzonych z bezpośrednim udziałem nauczycieli akademickich lub innych osób prowadzących zajęcia i szacowany nakład pracy studentów mierzony liczbą punktów ECTS w przypadku kierunków studiów przygotowujących do wykonywania zawodów regulowanych są zgodne z regułami i wymaganiami zawartymi w standardach kształcenia określonych w rozporządzeniach wykonawczych. | D23: Nie dotyczy
A24: 2.3 | B24: Metody kształcenia są zorientowane na studentów, motywują ich do aktywnego udziału w procesie nauczania i uczenia się oraz umożliwiają studentom osiągnięcie efektów uczenia się, w tym w szczególności umożliwiają przygotowanie do prowadzenia działalności naukowej lub udział w tej działalności. | C24: 1, 2, 3, 5, 6, 7, 8, 9, 10, 11, 12, 15, 17, 18, 19, 20 | D24: W celu umożliwienia studentom przygotowania do ich pracy naukowej realizuje się proces kształcenia na kierunku Biologia poprzez dobieranie różnorodnych form i metod kształcenia (zgodnych z profilem ogólnoakademickiemu). Studenci mają możliwość przygotowania do prowadzenia działalności naukowej w ramach realizacji treści programowych a w szczególności w czasie realizacji pracy dyplomowej oraz praktyk w jednostkach naukowych. Przygotowanie do prowadzenia działalności naukowej lub udział w działalności naukowej dodatkowo może być realizowany w ramach działalności kół naukowych, takich tak KNB – Koło Naukowe Biotechnologów; Studenckie Koło Naukowe Mikrobiologów ,,Eza”; Międzywydziałowe Koło Naukowe Nanobiotechnologii; Koło Naukowe Biologów. W systemie eHMS student ma dostęp do informacji związanych z realizacją zajęć dydaktycznych w tym do swoich ocen końcowych z przedmiotów. Studenci mają zapewniony system komunikacji poprzez Internet: poczta elektroniczna MS Outlook, pakiet MS Office, MS Teams, platforma MOODLE (E learning asynchroniczny). | F24: x
A25: 2.4 | B25: Jeśli w programie studiów uwzględnione są praktyki zawodowe, ich program, organizacja i nadzór nad realizacją, dobór miejsc odbywania oraz środowisko, w którym mają miejsce, w tym infrastruktura, a także kompetencje opiekunów zapewniają prawidłową realizację praktyk oraz osiągnięcie przez studentów efektów uczenia się, w szczególności tych, które są związane z nabywaniem kompetencji badawczych. | C25: 3,10,13,15 | D25: Studenci na początku semestru spotykają się z Koordynatorem ds. praktyk w celu poznania merytorycznych i formalnych zasad odbywania praktyki zawodowej zapisanych w Regulaminie studenckich praktyk. Ponadto informowani są o potencjalnych miejscach, w których możliwe jest odbycie praktyki dla każdego modułu oraz dobrych praktykach związanych z jej realizacją. Koordynator ds. praktyk, przez cały semestr letni pełni dyżur dwa razy w tygodniu. Wszelkie potrzebne formularze w wersji edycyjnej znajdują się na stronie internetowej Wydziału. W dostępnym na stronie internetowej dokumencie studenci mogą znaleźć pełne informacje o praktykach oraz wszystkich formularzach i potrzebnych dokumentach. Formularze dokumentowania praktyk pozwalają na lepsze ocenę uzyskanych kompetencji przez studenta. Główne punkty tego dokumentu to informacje ogólne, cele i zadania, program praktyki oraz zasady odbywania praktyki. Dodatkowo studenci wypełniają dokument, dotyczący ankiety o miejscu praktyki. Koordynator ds. praktyk w kontakcie z władzami Wydziału i Radą Interesariuszy zewnętrznych nadzoruje przebieg oraz kompetencje opiekunów w miejscach realizacji praktyk oraz aktualizuje proponowane studentom miejsca realizacji praktyk. Po zakończeniu praktyk koordynator informuję o ich przebiegu w ramach corocznego raportu. | F25: x
A26: 2.4a | B26: Program praktyk zawodowych, organizacja i nadzór nad ich realizacją, dobór miejsc odbywania oraz środowisko, w którym mają miejsce, w tym infrastruktura, a także kompetencje opiekunów, w przypadku kierunków studiów przygotowujących do wykonywania zawodów regulowanych są zgodne z regułami i wymaganiami zawartymi w standardach kształcenia określonych w rozporządzeniach wykonawczych. | D26: Nie dotyczy
A27: 2.5 | B27: Organizacja procesu nauczania zapewnia efektywne wykorzystanie czasu przeznaczonego na nauczanie i uczenie się oraz weryfikację i ocenę efektów uczenia się. | C27: 1, 2, 3, 5, 6, 7, 8, 9, 10, 11, 12, 14, 15, 17, 18, 19, 20 | D27: Organizacja procesu kształcenia regulowana jest przez coroczne zarządzenie Rektora dotyczące organizacji roku akademickiego, które ustala ramowy czas trwania poszczególnych semestrów i terminy sesji egzaminacyjnych, a także terminy przerw międzysemestralnych i wakacji. Ponadto organizacja procesu nauczania regulowana jest przez Regulamin studiów w SGGW. Rozplanowanie zajęć umożliwia efektywne wykorzystanie czasu przeznaczonego na udział w zajęciach oraz na samodzielne uczenie się studentów. W przypadku studentów z niepełnosprawnościami możliwe jest wyznaczenie odmiennego planu studiów umożliwiających studentowi, realizację obowiązującego programu studiów z dostosowaniem do jego potrzeb, w tym potrzeb wynikających z rodzaju niepełnosprawności. Na wniosek prowadzących zajęcia lub studentów możliwe jest wprowadzenie zmian w ustalonym harmonogramie dotyczące zmiany w terminach prowadzonych zajęć po pisemnym zgłoszeniu do Dziekanatu. | F27: x
A28: 2.5a | B28: Organizacja procesu nauczania i uczenia się w przypadku kierunków studiów przygotowujących do wykonywania zawodów regulowanych zgodna z regułami i wymaganiami w zakresie sposobu organizacji kształcenia zawartymi w standardach kształcenia określonych w rozporządzeniach wykonawczych. | D28: Nie dotyczy
D29: =_xlfn.CONCAT("DOBRE PRAKTYKI dla ",B19) -> DOBRE PRAKTYKI dla Kryterium 2. Realizacja programu studiów: treści programowe, harmonogram realizacji programu studiów oraz formy i organizacja zajęć, metody kształcenia, praktyki zawodowe, organizacja procesu nauczania i uczenia się
D30: Cykliczny przegląd programu studiów i sylabusów przedmiotów w celu dostosowania treści programowych i harmonogramu realizacji zajęć. Elastyczność w realizacji harmonogramu zajęć z możliwością dostosowania harmonogramu do potrzeb studenta. Bliska współpraca z Interesariuszami zewnętrznymi w celu stałego przystosowywania programu studiów do potrzeb otoczenia społeczno-gospodarczego. Analiza ankiet studenckich po realizacji praktyk, ankiet wydziałowych i ogólnouczelnianych w celu usprawnienia organizacji procesu nauczania.
